BEGIN:VCALENDAR
VERSION:2.0
PRODID:-//wp-events-plugin.com//7.2.3.1//EN
TZID:Europe/Amsterdam
X-WR-TIMEZONE:Europe/Amsterdam
BEGIN:VEVENT
UID:11882@wijkcentrumschadewijk.nl
DTSTART;TZID=Europe/Amsterdam:20260420T090000
DTEND;TZID=Europe/Amsterdam:20260420T130000
DTSTAMP:20241204T152605Z
URL:https://www.wijkcentrumschadewijk.nl/events/kopgroep-dementie-2026-04-
 20/
SUMMARY:kopgroep dementie
DESCRIPTION:kopgroep dementie aanmelden via Ypse.nl
ATTACH;FMTTYPE=image/jpeg:https://www.wijkcentrumschadewijk.nl/wp-content/
 uploads/2024/12/Scherm­afbeelding-2024-12-04-om-16.21.02.png
END:VEVENT
BEGIN:VTIMEZONE
TZID:Europe/Amsterdam
X-LIC-LOCATION:Europe/Amsterdam
BEGIN:DAYLIGHT
DTSTART:20260329T030000
TZOFFSETFROM:+0100
TZOFFSETTO:+0200
TZNAME:CEST
END:DAYLIGHT
END:VTIMEZONE
END:VCALENDAR