BEGIN:VCALENDAR
VERSION:2.0
PRODID:-//wp-events-plugin.com//7.2.3.1//EN
TZID:Europe/Amsterdam
X-WR-TIMEZONE:Europe/Amsterdam
BEGIN:VEVENT
UID:12030@wijkcentrumschadewijk.nl
DTSTART;TZID=Europe/Amsterdam:20260420T100000
DTEND;TZID=Europe/Amsterdam:20260420T110000
DTSTAMP:20250311T130712Z
URL:https://www.wijkcentrumschadewijk.nl/events/wandelen-door-de-wijk-2026
 -04-20/
SUMMARY:wandelen door de wijk maandag
DESCRIPTION:Wandelen door de wijk locatie buiten.\n\nVoor meer informatie: 
 Peter van Bohemen 06-57244137 of opbouwwerkschadewijk@ons-welzijn.nl
ATTACH;FMTTYPE=image/jpeg:https://www.wijkcentrumschadewijk.nl/wp-content/
 uploads/2024/12/Scherm­afbeelding-2024-12-04-om-16.45.31.png
END:VEVENT
BEGIN:VTIMEZONE
TZID:Europe/Amsterdam
X-LIC-LOCATION:Europe/Amsterdam
BEGIN:DAYLIGHT
DTSTART:20260329T030000
TZOFFSETFROM:+0100
TZOFFSETTO:+0200
TZNAME:CEST
END:DAYLIGHT
END:VTIMEZONE
END:VCALENDAR